BEGIN:VCALENDAR
VERSION:2.0
PRODID:-//TruMD, South Africa - ECPv6.15.18//NONSGML v1.0//EN
CALSCALE:GREGORIAN
METHOD:PUBLISH
X-ORIGINAL-URL:https://www.trumd.co.za
X-WR-CALDESC:Events for TruMD, South Africa
REFRESH-INTERVAL;VALUE=DURATION:PT1H
X-Robots-Tag:noindex
X-PUBLISHED-TTL:PT1H
BEGIN:VTIMEZONE
TZID:Africa/Johannesburg
BEGIN:STANDARD
TZOFFSETFROM:+0200
TZOFFSETTO:+0200
TZNAME:SAST
DTSTART:20240101T000000
END:STANDARD
END:VTIMEZONE
BEGIN:VEVENT
DTSTART;VALUE=DATE:20250504
DTEND;VALUE=DATE:20250511
DTSTAMP:20260423T161133
CREATED:20250511T090914Z
LAST-MODIFIED:20250511T092012Z
UID:929-1746316800-1746921599@www.trumd.co.za
SUMMARY:Hospice Week
DESCRIPTION:
URL:https://www.trumd.co.za/event/hospice-week/
CATEGORIES:Week 1
END:VEVENT
BEGIN:VEVENT
DTSTART;VALUE=DATE:20250512
DTEND;VALUE=DATE:20250519
DTSTAMP:20260423T161133
CREATED:20250511T092413Z
LAST-MODIFIED:20250511T092413Z
UID:946-1747008000-1747612799@www.trumd.co.za
SUMMARY:World Salt Awareness Week
DESCRIPTION:
URL:https://www.trumd.co.za/event/world-salt-awareness-week/
CATEGORIES:Week 1
END:VEVENT
BEGIN:VEVENT
DTSTART;VALUE=DATE:20250525
DTEND;VALUE=DATE:20250602
DTSTAMP:20260423T161133
CREATED:20250511T092635Z
LAST-MODIFIED:20250511T092635Z
UID:952-1748131200-1748822399@www.trumd.co.za
SUMMARY:Child Protection Week
DESCRIPTION:
URL:https://www.trumd.co.za/event/child-protection-week/
CATEGORIES:Week 1
END:VEVENT
END:VCALENDAR