BEGIN:VCALENDAR
VERSION:2.0
PRODID:-//TruMD, South Africa - ECPv6.15.18//NONSGML v1.0//EN
CALSCALE:GREGORIAN
METHOD:PUBLISH
X-WR-CALNAME:TruMD, South Africa
X-ORIGINAL-URL:https://www.trumd.co.za
X-WR-CALDESC:Events for TruMD, South Africa
REFRESH-INTERVAL;VALUE=DURATION:PT1H
X-Robots-Tag:noindex
X-PUBLISHED-TTL:PT1H
BEGIN:VTIMEZONE
TZID:Africa/Johannesburg
BEGIN:STANDARD
TZOFFSETFROM:+0200
TZOFFSETTO:+0200
TZNAME:SAST
DTSTART:20250101T000000
END:STANDARD
END:VTIMEZONE
BEGIN:VEVENT
DTSTART;TZID=Africa/Johannesburg:20260119T080000
DTEND;TZID=Africa/Johannesburg:20260125T170000
DTSTAMP:20260421T170155
CREATED:20260201T122113Z
LAST-MODIFIED:20260201T122113Z
UID:1852-1768809600-1769360400@www.trumd.co.za
SUMMARY:Cervical Cancer Prevention Week
DESCRIPTION:
URL:https://www.trumd.co.za/event/cervical-cancer-prevention-week/
CATEGORIES:Week 1
END:VEVENT
END:VCALENDAR